BEGIN:VCALENDAR
VERSION:2.0
PRODID:-//pretix//pretix.eu//
BEGIN:VTIMEZONE
TZID:Europe/Berlin
BEGIN:STANDARD
DTSTART:20001029T040000
RRULE:FREQ=YEARLY;BYDAY=-1SU;BYMONTH=10
TZNAME:CET
TZOFFSETFROM:+0200
TZOFFSETTO:+0100
END:STANDARD
BEGIN:DAYLIGHT
DTSTART:20000326T030000
RRULE:FREQ=YEARLY;BYDAY=-1SU;BYMONTH=3
TZNAME:CEST
TZOFFSETFROM:+0100
TZOFFSETTO:+0200
END:DAYLIGHT
END:VTIMEZONE
BEGIN:VEVENT
UID:pretix-srwhadamar-fu-alteherren-4570768@srwhadamar.vereinsticket.de
DTSTART;TZID=Europe/Berlin:20250822T183000
DTEND;TZID=Europe/Berlin:20250822T193000
DESCRIPTION:Tickets: https://srwhadamar.vereinsticket.de/fu-alteherren/4570
 768/\nEinlass: 22.08.2025 16:00\nVeranstalter: SV Rot-Weiss Hadamar
DTSTAMP:20260426T000657Z
LOCATION:SV RW Hadamar\, An der dicken Eiche\, 65589 Hadamar
SUMMARY:SV Rot-Weiss Hadamar vs. Eintracht Frankfurt Traditionsmannschaft
END:VEVENT
END:VCALENDAR
